BEGIN:VCALENDAR
VERSION:2.0
PRODID:-//ChamberMaster//Event Calendar 2.0//EN
METHOD:PUBLISH
X-PUBLISHED-TTL:P1H
REFRESH-INTERVAL:P1H
CALSCALE:GREGORIAN
BEGIN:VTIMEZONE
TZID:America/Chicago
BEGIN:DAYLIGHT
RRULE:FREQ=YEARLY;BYMONTH=3;BYDAY=2SU
DTSTART:20070101T000000
TZOFFSETFROM:-0600
TZOFFSETTO:-0500
TZNAME:Central Daylight Time
END:DAYLIGHT
BEGIN:STANDARD
RRULE:FREQ=YEARLY;BYMONTH=11;BYDAY=1SU
DTSTART:20070101T000000
TZOFFSETFROM:-0500
TZOFFSETTO:-0600
TZNAME:Central Standard Time
END:STANDARD
END:VTIMEZONE
BEGIN:VEVENT
DTSTART;TZID=America/Chicago:20260416T103000
DTEND;TZID=America/Chicago:20260416T113000
X-MICROSOFT-CDO-ALLDAYEVENT:FALSE
SUMMARY:Virtual Bookclub
DESCRIPTION:Join our virtual book club as we dive into Remarkably Bright Creatures\, a heartwarming and unique novel that explores friendship\, grief\, and unexpected connections. Together\, we’ll follow the touching story of a widow and a remarkably perceptive octopus\, uncovering mysteries of the past while reflecting on healing and second chances.\n\nIn this relaxed\, welcoming online space\, readers can share thoughts\, favorite moments\, and personal insights while connecting with others who love meaningful storytelling. Whether you’re here for deep discussion or simply to enjoy a good book with great company\, this club offers a thoughtful and engaging experience for all.
X-ALT-DESC;FMTTYPE=text/html:Join our virtual book club as we dive into Remarkably Bright Creatures\, a heartwarming and unique novel that explores friendship\, grief\, and unexpected connections. Together\, we’ll follow the touching story of a widow and a remarkably perceptive octopus\, uncovering mysteries of the past while reflecting on healing and second chances.\n\nIn this relaxed\, welcoming online space\, readers can share thoughts\, favorite moments\, and personal insights while connecting with others who love meaningful storytelling. Whether you’re here for deep discussion or simply to enjoy a good book with great company\, this club offers a thoughtful and engaging experience for all.
LOCATION:25 W. 15th Street Chicago Heights IL 60411
UID:e.2067.1437467
SEQUENCE:3
DTSTAMP:20260424T110728Z
URL:https://business.chicagosouthlandchamber.com/calendar/Details/virtual-bookclub-1701413?sourceTypeId=Hub
END:VEVENT
END:VCALENDAR
