BEGIN:VCALENDAR
VERSION:2.0
PRODID:-//ChamberMaster//Event Calendar 2.0//EN
METHOD:PUBLISH
X-PUBLISHED-TTL:P1H
REFRESH-INTERVAL:P1H
CALSCALE:GREGORIAN
BEGIN:VTIMEZONE
TZID:America/Chicago
BEGIN:DAYLIGHT
RRULE:FREQ=YEARLY;BYMONTH=3;BYDAY=2SU
DTSTART:20070101T000000
TZOFFSETFROM:-0600
TZOFFSETTO:-0500
TZNAME:Central Daylight Time
END:DAYLIGHT
BEGIN:STANDARD
RRULE:FREQ=YEARLY;BYMONTH=11;BYDAY=1SU
DTSTART:20070101T000000
TZOFFSETFROM:-0500
TZOFFSETTO:-0600
TZNAME:Central Standard Time
END:STANDARD
END:VTIMEZONE
BEGIN:VEVENT
DTSTART;TZID=America/Chicago:20260406T153000
DTEND;TZID=America/Chicago:20260406T163000
X-MICROSOFT-CDO-ALLDAYEVENT:FALSE
SUMMARY:Teen Markers (Ceramic Painting)
DESCRIPTION:Get ready to unleash your creativity at Teen Makers! In this fun\, hands-on session\, teens will design and paint their own colorful ceramic pieces. Whether you want to create bold patterns\, cool designs\, or something totally unique\, this is your chance to express your personal style. All supplies are provided—just bring your imagination and get ready to turn plain ceramics into vibrant works of art. Perfect for hanging out with friends\, trying something new\, and making a piece you’ll be proud to take home! 🎨
X-ALT-DESC;FMTTYPE=text/html:Get ready to unleash your creativity at Teen Makers! In this fun\, hands-on session\, teens will design and paint their own colorful ceramic pieces. Whether you want to create bold patterns\, cool designs\, or something totally unique\, this is your chance to express your personal style. All supplies are provided—just bring your imagination and get ready to turn plain ceramics into vibrant works of art. Perfect for hanging out with friends\, trying something new\, and making a piece you’ll be proud to take home! 🎨
LOCATION:25 W. 15th Street Chicago Heights IL 60411
UID:e.2067.1437291
SEQUENCE:3
DTSTAMP:20260424T111222Z
URL:https://business.chicagosouthlandchamber.com/calendar/Details/teen-markers-ceramic-painting-1701235?sourceTypeId=Hub
END:VEVENT
END:VCALENDAR
