BEGIN:VCALENDAR
VERSION:2.0
PRODID:-//ChamberMaster//Event Calendar 2.0//EN
METHOD:PUBLISH
X-PUBLISHED-TTL:P1H
REFRESH-INTERVAL:P1H
CALSCALE:GREGORIAN
BEGIN:VTIMEZONE
TZID:America/Chicago
BEGIN:DAYLIGHT
RRULE:FREQ=YEARLY;BYMONTH=3;BYDAY=2SU
DTSTART:20070101T000000
TZOFFSETFROM:-0600
TZOFFSETTO:-0500
TZNAME:Central Daylight Time
END:DAYLIGHT
BEGIN:STANDARD
RRULE:FREQ=YEARLY;BYMONTH=11;BYDAY=1SU
DTSTART:20070101T000000
TZOFFSETFROM:-0500
TZOFFSETTO:-0600
TZNAME:Central Standard Time
END:STANDARD
END:VTIMEZONE
BEGIN:VEVENT
DTSTART;TZID=America/Chicago:20260429T110000
DTEND;TZID=America/Chicago:20260429T120000
X-MICROSOFT-CDO-ALLDAYEVENT:FALSE
SUMMARY:Story & Craft
DESCRIPTION:Storytime at the Chicago Heights Public Library\, a special moment where imagination comes to life! During our time together\, we’ll explore exciting tales\, meet unforgettable characters\, and travel to places far beyond our everyday world—all through the magic of books.\n\nStorytime is a chance to listen\, learn\, and let creativity grow right here in your community. each story helps build language\, spark curiosity\, and inspire young minds. So\, get comfy\, open your ears and your imagination\, and let’s enjoy the adventure together at your library—one story at a time!
X-ALT-DESC;FMTTYPE=text/html:Storytime at the Chicago Heights Public Library\, a special moment where imagination comes to life! During our time together\, we’ll explore exciting tales\, meet unforgettable characters\, and travel to places far beyond our everyday world—all through the magic of books.\n\nStorytime is a chance to listen\, learn\, and let creativity grow right here in your community. each story helps build language\, spark curiosity\, and inspire young minds. So\, get comfy\, open your ears and your imagination\, and let’s enjoy the adventure together at your library—one story at a time!
LOCATION:25 W. 15th Street Chicago Heights IL 60411
UID:e.2067.1437442
SEQUENCE:3
DTSTAMP:20260424T110750Z
URL:https://business.chicagosouthlandchamber.com/calendar/Details/story-craft-1701388?sourceTypeId=Hub
END:VEVENT
END:VCALENDAR
