BEGIN:VCALENDAR
VERSION:2.0
PRODID:-//ChamberMaster//Event Calendar 2.0//EN
METHOD:PUBLISH
X-PUBLISHED-TTL:P1H
REFRESH-INTERVAL:P1H
CALSCALE:GREGORIAN
BEGIN:VTIMEZONE
TZID:America/Chicago
BEGIN:DAYLIGHT
RRULE:FREQ=YEARLY;BYMONTH=3;BYDAY=2SU
DTSTART:20070101T000000
TZOFFSETFROM:-0600
TZOFFSETTO:-0500
TZNAME:Central Daylight Time
END:DAYLIGHT
BEGIN:STANDARD
RRULE:FREQ=YEARLY;BYMONTH=11;BYDAY=1SU
DTSTART:20070101T000000
TZOFFSETFROM:-0500
TZOFFSETTO:-0600
TZNAME:Central Standard Time
END:STANDARD
END:VTIMEZONE
BEGIN:VEVENT
DTSTART;TZID=America/Chicago:20260428T120000
DTEND;TZID=America/Chicago:20260428T150000
X-MICROSOFT-CDO-ALLDAYEVENT:FALSE
SUMMARY:Spades/Bid Whist Club
DESCRIPTION:Shuffle into Spring with cards\, community\, and fun at the Chicago Heights Public Library\, where Mrs. Cunningham hosts Adult Spades/Bid Whist every Tuesday at 12 PM. Whether you're a seasoned player or just looking for good company\, there’s always a seat waiting for you—come play\, connect\, and enjoy! Adéntrate en Primavera con juegos de cartas\, buena compañía y diversión en la Biblioteca Pública de Chicago Heights\, donde la Sra. Cunningham organiza partidas de Spades/Bid Whist para adultos todos los martes a las 12:00 p. m. Ya seas un jugador experimentado o simplemente busques un rato agradable\, siempre habrá un asiento esperándote. ¡Ven a jugar\, a conectar con otros y a disfrutar!
X-ALT-DESC;FMTTYPE=text/html:Shuffle into Spring with cards\, community\, and fun at the Chicago Heights Public Library\, where Mrs. Cunningham hosts Adult Spades/Bid Whist every Tuesday at 12 PM. Whether you're a seasoned player or just looking for good company\, there’s always a seat waiting for you—come play\, connect\, and enjoy! Adéntrate en Primavera con juegos de cartas\, buena compañía y diversión en la Biblioteca Pública de Chicago Heights\, donde la Sra. Cunningham organiza partidas de Spades/Bid Whist para adultos todos los martes a las 12:00 p. m. Ya seas un jugador experimentado o simplemente busques un rato agradable\, siempre habrá un asiento esperándote. ¡Ven a jugar\, a conectar con otros y a disfrutar!
LOCATION:25 W. 15th Street Chicago Heights IL 60411
UID:e.2067.1437398
SEQUENCE:3
DTSTAMP:20260424T111217Z
URL:https://business.chicagosouthlandchamber.com/calendar/Details/spades-bid-whist-club-1701338?sourceTypeId=Hub
END:VEVENT
END:VCALENDAR
