BEGIN:VCALENDAR
VERSION:2.0
PRODID:-//ChamberMaster//Event Calendar 2.0//EN
METHOD:PUBLISH
X-PUBLISHED-TTL:P1H
REFRESH-INTERVAL:P1H
CALSCALE:GREGORIAN
BEGIN:VTIMEZONE
TZID:America/Chicago
BEGIN:DAYLIGHT
RRULE:FREQ=YEARLY;BYMONTH=3;BYDAY=2SU
DTSTART:20070101T000000
TZOFFSETFROM:-0600
TZOFFSETTO:-0500
TZNAME:Central Daylight Time
END:DAYLIGHT
BEGIN:STANDARD
RRULE:FREQ=YEARLY;BYMONTH=11;BYDAY=1SU
DTSTART:20070101T000000
TZOFFSETFROM:-0500
TZOFFSETTO:-0600
TZNAME:Central Standard Time
END:STANDARD
END:VTIMEZONE
BEGIN:VEVENT
DTSTART;TZID=America/Chicago:20260406T173000
DTEND;TZID=America/Chicago:20260406T183000
X-MICROSOFT-CDO-ALLDAYEVENT:FALSE
SUMMARY:Senior Computer Basic Class
DESCRIPTION:This beginner-friendly class is specially designed for seniors who want to build confidence using computers and the internet. You'll learn how to send emails\, browse the web\, explore social media\, and more—all at your own pace. Embrace the season of learning\, thanks to support from the Age Options Grant!Esta clase para principiantes está especialmente diseñada para personas mayores que desean desarrollar confianza en el uso de computadoras e Internet. Aprenderá a enviar correos electrónicos\, navegar por la web\, explorar las redes sociales y más\, todo a su propio ritmo. ¡Acepte la temporada de aprendizaje\, gracias al apoyo de la Beca Age Options!
X-ALT-DESC;FMTTYPE=text/html:This beginner-friendly class is specially designed for seniors who want to build confidence using computers and the internet. You'll learn how to send emails\, browse the web\, explore social media\, and more—all at your own pace. Embrace the season of learning\, thanks to support from the Age Options Grant!Esta clase para principiantes está especialmente diseñada para personas mayores que desean desarrollar confianza en el uso de computadoras e Internet. Aprenderá a enviar correos electrónicos\, navegar por la web\, explorar las redes sociales y más\, todo a su propio ritmo. ¡Acepte la temporada de aprendizaje\, gracias al apoyo de la Beca Age Options!
LOCATION:25 W. 15th Street Chicago Heights IL 60411
UID:e.2067.1437297
SEQUENCE:3
DTSTAMP:20260424T110412Z
URL:https://business.chicagosouthlandchamber.com/calendar/Details/senior-computer-basic-class-1701241?sourceTypeId=Hub
END:VEVENT
END:VCALENDAR
