BEGIN:VCALENDAR
VERSION:2.0
PRODID:-//ChamberMaster//Event Calendar 2.0//EN
METHOD:PUBLISH
X-PUBLISHED-TTL:P1H
REFRESH-INTERVAL:P1H
CALSCALE:GREGORIAN
BEGIN:VTIMEZONE
TZID:America/Chicago
BEGIN:DAYLIGHT
RRULE:FREQ=YEARLY;BYMONTH=3;BYDAY=2SU
DTSTART:20070101T000000
TZOFFSETFROM:-0600
TZOFFSETTO:-0500
TZNAME:Central Daylight Time
END:DAYLIGHT
BEGIN:STANDARD
RRULE:FREQ=YEARLY;BYMONTH=11;BYDAY=1SU
DTSTART:20070101T000000
TZOFFSETFROM:-0500
TZOFFSETTO:-0600
TZNAME:Central Standard Time
END:STANDARD
END:VTIMEZONE
BEGIN:VEVENT
DTSTART;TZID=America/Chicago:20260423T110000
DTEND;TZID=America/Chicago:20260423T120000
X-MICROSOFT-CDO-ALLDAYEVENT:FALSE
SUMMARY:Senior Bingo
DESCRIPTION:Senior are welcomed to join us for bingo it's a fun and engaging activity that brings older adults together for social connection\, mental stimulation\, and a bit of friendly competition. It's easy to play\, requires no special skills\, and offers a relaxing way to spend time with friends while keeping the mind active. Whether held at a community center\, senior living facility\, or local hall\, bingo is a beloved pastime that adds joy and laughter to the day. Plus\, there's always the excitement of shouting "Bingo!" when you win!
X-ALT-DESC;FMTTYPE=text/html:Senior are welcomed to join us for bingo it's a fun and engaging activity that brings older adults together for social connection\, mental stimulation\, and a bit of friendly competition. It's easy to play\, requires no special skills\, and offers a relaxing way to spend time with friends while keeping the mind active. Whether held at a community center\, senior living facility\, or local hall\, bingo is a beloved pastime that adds joy and laughter to the day. Plus\, there's always the excitement of shouting "Bingo!" when you win!
LOCATION:25 W. 15th Street Chicago Heights IL 60411
UID:e.2067.1437458
SEQUENCE:3
DTSTAMP:20260424T110712Z
URL:https://business.chicagosouthlandchamber.com/calendar/Details/senior-bingo-1701404?sourceTypeId=Hub
END:VEVENT
END:VCALENDAR
