BEGIN:VCALENDAR
VERSION:2.0
PRODID:-//ChamberMaster//Event Calendar 2.0//EN
METHOD:PUBLISH
X-PUBLISHED-TTL:P1H
REFRESH-INTERVAL:P1H
CALSCALE:GREGORIAN
BEGIN:VTIMEZONE
TZID:America/Chicago
BEGIN:DAYLIGHT
RRULE:FREQ=YEARLY;BYMONTH=3;BYDAY=2SU
DTSTART:20070101T000000
TZOFFSETFROM:-0600
TZOFFSETTO:-0500
TZNAME:Central Daylight Time
END:DAYLIGHT
BEGIN:STANDARD
RRULE:FREQ=YEARLY;BYMONTH=11;BYDAY=1SU
DTSTART:20070101T000000
TZOFFSETFROM:-0500
TZOFFSETTO:-0600
TZNAME:Central Standard Time
END:STANDARD
END:VTIMEZONE
BEGIN:VEVENT
DTSTART;TZID=America/Chicago:20260424T160000
DTEND;TZID=America/Chicago:20260424T170000
X-MICROSOFT-CDO-ALLDAYEVENT:FALSE
SUMMARY:Positive Youth Development Program
DESCRIPTION:🌟 Teen Enrichment Program – 8 Weeks of Growth & Life Skills! 🌟\n\nJoin us for an 8-week Teen Enrichment Program designed to help teens build confidence\, learn practical life skills\, and grow socially in a supportive environment. Each weekly session (45 minutes–1 hour) includes engaging discussions\, real-life examples\, and fun group activities that make learning meaningful and interactive.\n\n📅 Program Topics Include:\n✨ Weeks 1–2: Personal Hygiene & Self-Care\n🌍 Weeks 3–4: Cultural Competence & Respect for Diversity\n💰 Weeks 5–6: Living Within Your Means (Intro to Budgeting & Smart Spending)\n⏰ Weeks 7–8: Time Management & Goal Setting\n\nThis program encourages teens to share ideas\, reflect\, and develop skills they can use in everyday life—at school\, at home\, and in their future.\n\n👥 Open to teens interested in learning\, growing\, and connecting with others.
X-ALT-DESC;FMTTYPE=text/html:🌟 Teen Enrichment Program – 8 Weeks of Growth & Life Skills! 🌟\n\nJoin us for an 8-week Teen Enrichment Program designed to help teens build confidence\, learn practical life skills\, and grow socially in a supportive environment. Each weekly session (45 minutes–1 hour) includes engaging discussions\, real-life examples\, and fun group activities that make learning meaningful and interactive.\n\n📅 Program Topics Include:\n✨ Weeks 1–2: Personal Hygiene & Self-Care\n🌍 Weeks 3–4: Cultural Competence & Respect for Diversity\n💰 Weeks 5–6: Living Within Your Means (Intro to Budgeting & Smart Spending)\n⏰ Weeks 7–8: Time Management & Goal Setting\n\nThis program encourages teens to share ideas\, reflect\, and develop skills they can use in everyday life—at school\, at home\, and in their future.\n\n👥 Open to teens interested in learning\, growing\, and connecting with others.
LOCATION:25 W. 15th Street Chicago Heights IL 60411
UID:e.2067.1437491
SEQUENCE:3
DTSTAMP:20260424T110443Z
URL:https://business.chicagosouthlandchamber.com/calendar/Details/positive-youth-development-program-1701436?sourceTypeId=Hub
END:VEVENT
END:VCALENDAR
