BEGIN:VCALENDAR
VERSION:2.0
PRODID:-//ChamberMaster//Event Calendar 2.0//EN
METHOD:PUBLISH
X-PUBLISHED-TTL:P1H
REFRESH-INTERVAL:P1H
CALSCALE:GREGORIAN
BEGIN:VTIMEZONE
TZID:America/Chicago
BEGIN:DAYLIGHT
RRULE:FREQ=YEARLY;BYMONTH=3;BYDAY=2SU
DTSTART:20070101T000000
TZOFFSETFROM:-0600
TZOFFSETTO:-0500
TZNAME:Central Daylight Time
END:DAYLIGHT
BEGIN:STANDARD
RRULE:FREQ=YEARLY;BYMONTH=11;BYDAY=1SU
DTSTART:20070101T000000
TZOFFSETFROM:-0500
TZOFFSETTO:-0600
TZNAME:Central Standard Time
END:STANDARD
END:VTIMEZONE
BEGIN:VEVENT
DTSTART;TZID=America/Chicago:20260417T153000
DTEND;TZID=America/Chicago:20260417T163000
X-MICROSOFT-CDO-ALLDAYEVENT:FALSE
SUMMARY:National Kite Day "D.I.Y KITE"
DESCRIPTION:Celebrate National Kite Month with a fun and creative DIY Kite Program! Participants ages 5-12 are invited to design and build their very own kites using colorful materials and simple techniques. Whether you prefer bold patterns\, bright colors\, or unique shapes\, this hands-on activity lets your imagination take flight.\n\nAfter crafting your kite\, learn basic tips on flying and discover the joy of watching your creation soar. This program is a great way to explore creativity\, enjoy time with family and friends\, and welcome the breezy days of spring. No experience needed—just bring your enthusiasm and get ready for a high-flying good time! 🪁
X-ALT-DESC;FMTTYPE=text/html:Celebrate National Kite Month with a fun and creative DIY Kite Program! Participants ages 5-12 are invited to design and build their very own kites using colorful materials and simple techniques. Whether you prefer bold patterns\, bright colors\, or unique shapes\, this hands-on activity lets your imagination take flight.\n\nAfter crafting your kite\, learn basic tips on flying and discover the joy of watching your creation soar. This program is a great way to explore creativity\, enjoy time with family and friends\, and welcome the breezy days of spring. No experience needed—just bring your enthusiasm and get ready for a high-flying good time! 🪁
LOCATION:25 W. 15th Street Chicago Heights IL 60411
UID:e.2067.1437495
SEQUENCE:3
DTSTAMP:20260424T111121Z
URL:https://business.chicagosouthlandchamber.com/calendar/Details/national-kite-day-d-i-y-kite-1701440?sourceTypeId=Hub
END:VEVENT
END:VCALENDAR
