BEGIN:VCALENDAR
VERSION:2.0
PRODID:-//ChamberMaster//Event Calendar 2.0//EN
METHOD:PUBLISH
X-PUBLISHED-TTL:P1H
REFRESH-INTERVAL:P1H
CALSCALE:GREGORIAN
BEGIN:VTIMEZONE
TZID:America/Chicago
BEGIN:DAYLIGHT
RRULE:FREQ=YEARLY;BYMONTH=3;BYDAY=2SU
DTSTART:20070101T000000
TZOFFSETFROM:-0600
TZOFFSETTO:-0500
TZNAME:Central Daylight Time
END:DAYLIGHT
BEGIN:STANDARD
RRULE:FREQ=YEARLY;BYMONTH=11;BYDAY=1SU
DTSTART:20070101T000000
TZOFFSETFROM:-0500
TZOFFSETTO:-0600
TZNAME:Central Standard Time
END:STANDARD
END:VTIMEZONE
BEGIN:VEVENT
DTSTART;TZID=America/Chicago:20260415T110000
DTEND;TZID=America/Chicago:20260415T120000
X-MICROSOFT-CDO-ALLDAYEVENT:FALSE
SUMMARY:Money Mind storytime
DESCRIPTION:Join a representative from Illinois State Treasurer's Office for a fun and meaningful story time as we read Lily Learns About Wants and Needs! In this engaging session\, children will follow Lily on her journey to understand the difference between things we want and things we truly need. Through interactive discussion and relatable examples\, kids will learn important life skills about making thoughtful choices. Perfect for young listeners\, this story time encourages curiosity\, sharing\, and smart decision-making all in a warm and welcoming environment.
X-ALT-DESC;FMTTYPE=text/html:<!DOCTYPE html><html><head><title></title></head><body aria-disabled="false"><p><span style='color: rgb(17\, 17\, 17)\; font-family: Roboto\, "Open Sans"\, "Helvetica Neue"\, Helvetica\, Arial\, sans-serif\; font-size: 18px\; font-style: normal\; font-variant-ligatures: normal\; font-variant-caps: normal\; font-weight: 400\; letter-spacing: normal\; orphans: 2\; text-align: start\; text-indent: 0px\; text-transform: none\; widows: 2\; word-spacing: 0px\; -webkit-text-stroke-width: 0px\; white-space: normal\; background-color: rgb(255\, 255\, 255)\; text-decoration-thickness: initial\; text-decoration-style: initial\; text-decoration-color: initial\; display: inline !important\; float: none\;'>Join a representative from Illinois State Treasurer&#39\;s Office for a fun and meaningful story time as we read&nbsp\;</span><em style='box-sizing: border-box\; margin: 0px\; color: rgb(17\, 17\, 17)\; font-family: Roboto\, "Open Sans"\, "Helvetica Neue"\, Helvetica\, Arial\, sans-serif\; font-size: 18px\; font-variant-ligatures: normal\; font-variant-caps: normal\; font-weight: 400\; letter-spacing: normal\; orphans: 2\; text-align: start\; text-indent: 0px\; text-transform: none\; widows: 2\; word-spacing: 0px\; -webkit-text-stroke-width: 0px\; white-space: normal\; background-color: rgb(255\, 255\, 255)\; text-decoration-thickness: initial\; text-decoration-style: initial\; text-decoration-color: initial\;'>Lily Learns About Wants and Needs</em><span style='color: rgb(17\, 17\, 17)\; font-family: Roboto\, "Open Sans"\, "Helvetica Neue"\, Helvetica\, Arial\, sans-serif\; font-size: 18px\; font-style: normal\; font-variant-ligatures: normal\; font-variant-caps: normal\; font-weight: 400\; letter-spacing: normal\; orphans: 2\; text-align: start\; text-indent: 0px\; text-transform: none\; widows: 2\; word-spacing: 0px\; -webkit-text-stroke-width: 0px\; white-space: normal\; background-color: rgb(255\, 255\, 255)\; text-decoration-thickness: initial\; text-decoration-style: initial\; text-decoration-color: initial\; display: inline !important\; float: none\;'>! In this engaging session\, children will follow Lily on her journey to understand the difference between things we want and things we truly need. Through interactive discussion and relatable examples\, kids will learn important life skills about making thoughtful choices. Perfect for young listeners\, this story time encourages curiosity\, sharing\, and smart decision-making&mdash\;all in a warm and welcoming environment.</span> </p></body></html>
LOCATION:25 W. 15th Street Chicago Heights IL 60411
UID:e.2067.1437439
SEQUENCE:3
DTSTAMP:20260424T110913Z
URL:https://business.chicagosouthlandchamber.com/calendar/Details/money-mind-storytime-1701385?sourceTypeId=Hub
END:VEVENT
END:VCALENDAR
