BEGIN:VCALENDAR
VERSION:2.0
PRODID:-//ChamberMaster//Event Calendar 2.0//EN
METHOD:PUBLISH
X-PUBLISHED-TTL:P1H
REFRESH-INTERVAL:P1H
CALSCALE:GREGORIAN
BEGIN:VTIMEZONE
TZID:America/Chicago
BEGIN:DAYLIGHT
RRULE:FREQ=YEARLY;BYMONTH=3;BYDAY=2SU
DTSTART:20070101T000000
TZOFFSETFROM:-0600
TZOFFSETTO:-0500
TZNAME:Central Daylight Time
END:DAYLIGHT
BEGIN:STANDARD
RRULE:FREQ=YEARLY;BYMONTH=11;BYDAY=1SU
DTSTART:20070101T000000
TZOFFSETFROM:-0500
TZOFFSETTO:-0600
TZNAME:Central Standard Time
END:STANDARD
END:VTIMEZONE
BEGIN:VEVENT
DTSTART;TZID=America/Chicago:20260422T151500
DTEND;TZID=America/Chicago:20260422T161500
X-MICROSOFT-CDO-ALLDAYEVENT:FALSE
SUMMARY:Junior Chef
DESCRIPTION:Welcome to Illinois Junior Chef\, an exciting hands-on program designed especially for youth in grades 3rd through 5th! This interactive experience helps young learners build healthy eating habits while having fun in the kitchen.\n\nThrough engaging cooking activities\, participants explore the MyPlate food groups\, learning how each one contributes to a balanced diet. Each class highlights a specific food group and includes guided recipes that teach essential\, age-appropriate cooking skills.\n\nIllinois Junior Chef features a diverse selection of recipes and resources that celebrate culturally relevant dishes\, encouraging kids to explore new flavors while gaining confidence in the kitchen. By the end of the program\, students will have the knowledge and skills to make healthier food choices and create delicious meals they can be proud of.\n\nGet ready to mix\, measure\, and make something amazing!
X-ALT-DESC;FMTTYPE=text/html:Welcome to Illinois Junior Chef\, an exciting hands-on program designed especially for youth in grades 3rd through 5th! This interactive experience helps young learners build healthy eating habits while having fun in the kitchen.\n\nThrough engaging cooking activities\, participants explore the MyPlate food groups\, learning how each one contributes to a balanced diet. Each class highlights a specific food group and includes guided recipes that teach essential\, age-appropriate cooking skills.\n\nIllinois Junior Chef features a diverse selection of recipes and resources that celebrate culturally relevant dishes\, encouraging kids to explore new flavors while gaining confidence in the kitchen. By the end of the program\, students will have the knowledge and skills to make healthier food choices and create delicious meals they can be proud of.\n\nGet ready to mix\, measure\, and make something amazing!
LOCATION:25 W. 15th Street Chicago Heights IL 60411
UID:e.2067.1437452
SEQUENCE:3
DTSTAMP:20260424T110503Z
URL:https://business.chicagosouthlandchamber.com/calendar/Details/junior-chef-1701398?sourceTypeId=Hub
END:VEVENT
END:VCALENDAR
