BEGIN:VCALENDAR
VERSION:2.0
PRODID:-//ChamberMaster//Event Calendar 2.0//EN
METHOD:PUBLISH
X-PUBLISHED-TTL:P1H
REFRESH-INTERVAL:P1H
CALSCALE:GREGORIAN
BEGIN:VTIMEZONE
TZID:America/Chicago
BEGIN:DAYLIGHT
RRULE:FREQ=YEARLY;BYMONTH=3;BYDAY=2SU
DTSTART:20070101T000000
TZOFFSETFROM:-0600
TZOFFSETTO:-0500
TZNAME:Central Daylight Time
END:DAYLIGHT
BEGIN:STANDARD
RRULE:FREQ=YEARLY;BYMONTH=11;BYDAY=1SU
DTSTART:20070101T000000
TZOFFSETFROM:-0500
TZOFFSETTO:-0600
TZNAME:Central Standard Time
END:STANDARD
END:VTIMEZONE
BEGIN:VEVENT
DTSTART;TZID=America/Chicago:20260422T170000
DTEND;TZID=America/Chicago:20260422T190000
X-MICROSOFT-CDO-ALLDAYEVENT:FALSE
SUMMARY:Healthy Living for a Healthy Heart
DESCRIPTION:Please join a new event\, Healthy Living for a Healthy Heart\, hosted by Alsberry Consulting LLC\, on Wednesday\, April 22\, 2026\, at the Chicago Southland Chamber of Commerce office. What you will learn:Understanding cholesterol and heart riskImproving heart health through lifestyle changesNutrition and exercise guidancePreventive care and early detectionFeatured Speakers:Dr. Ajay Parikh\, Cardiologist\, Advocate Aurora South Suburban HospitalRadha Diette Staples\, Master Personal Trainer and Life CoachSpace is limited - register today!
X-ALT-DESC;FMTTYPE=text/html:<!DOCTYPE html><html><head><title></title></head><body aria-disabled="false"><p>Please join a new event\, <strong fr-original-style="" style="font-weight: 700\;">Healthy Living for a Healthy Heart</strong>\, hosted by <strong fr-original-style="" style="font-weight: 700\;">Alsberry Consulting LLC</strong>\, on<strong fr-original-style="" style="font-weight: 700\;">&nbsp\;Wednesday\, April 22\, 2026</strong>\, at the Chicago Southland Chamber of Commerce office.&nbsp\;</p><p><strong fr-original-style="" style="font-weight: 700\;">What you will learn:</strong></p><ul fr-original-style="" style="list-style-position: inside\;"><li>Understanding cholesterol and heart risk</li><li>Improving heart health through lifestyle changes</li><li>Nutrition and exercise guidance</li><li>Preventive care and early detection</li></ul><p><strong fr-original-style="" style="font-weight: 700\;">Featured Speakers:</strong></p><ul fr-original-style="" style="list-style-position: inside\;"><li><strong fr-original-style="" style="font-weight: 700\;">Dr. Ajay Parikh\,&nbsp\;</strong>Cardiologist\, Advocate Aurora South Suburban Hospital</li><li><strong fr-original-style="" style="font-weight: 700\;">Radha Diette Staples\,&nbsp\;</strong>Master Personal Trainer and Life Coach</li></ul><p><strong fr-original-style="" style="font-weight: 700\;"><em>Space is limited - register today! </em></strong></p></body></html>
LOCATION:1916 174th Street East Hazel Crest IL 60429
UID:e.2067.1440097
SEQUENCE:3
DTSTAMP:20260424T111222Z
URL:https://business.chicagosouthlandchamber.com/calendar/Details/healthy-living-for-a-healthy-heart-1704793?sourceTypeId=Hub
END:VEVENT
END:VCALENDAR
