BEGIN:VCALENDAR
VERSION:2.0
PRODID:-//ChamberMaster//Event Calendar 2.0//EN
METHOD:PUBLISH
X-PUBLISHED-TTL:P1H
REFRESH-INTERVAL:P1H
CALSCALE:GREGORIAN
BEGIN:VTIMEZONE
TZID:America/Chicago
BEGIN:DAYLIGHT
RRULE:FREQ=YEARLY;BYMONTH=3;BYDAY=2SU
DTSTART:20070101T000000
TZOFFSETFROM:-0600
TZOFFSETTO:-0500
TZNAME:Central Daylight Time
END:DAYLIGHT
BEGIN:STANDARD
RRULE:FREQ=YEARLY;BYMONTH=11;BYDAY=1SU
DTSTART:20070101T000000
TZOFFSETFROM:-0500
TZOFFSETTO:-0600
TZNAME:Central Standard Time
END:STANDARD
END:VTIMEZONE
BEGIN:VEVENT
DTSTART;TZID=America/Chicago:20260606T100000
DTEND;TZID=America/Chicago:20260606T113000
X-MICROSOFT-CDO-ALLDAYEVENT:FALSE
SUMMARY:CSCC Windows 11 Workshop
DESCRIPTION:Join us for an engaging\, hands-on Windows 11 Workshop designed to help participants build confidence and navigate their computer with ease. This workshop will provide a supportive learning environment where participants will learn how to: Navigate the Windows 11 desktop\, taskbar\, and Start menu Manage files and folders using File Explorer Adjust basic settings like Wi-Fi\, display\, and personalization Use built-in tools and apps to complete everyday tasks
X-ALT-DESC;FMTTYPE=text/html:<!DOCTYPE html><html><head><title></title></head><body aria-disabled="false"><p>Join us for an engaging\, hands-on Windows 11 Workshop designed to help participants build confidence and navigate their computer with ease.&nbsp\;</p><p>This workshop will provide a supportive learning environment where participants will learn how to:&nbsp\;</p><ul fr-original-style="" style="list-style-position: inside\;"><li>Navigate the Windows 11 desktop\, taskbar\, and Start menu&nbsp\;</li><li>Manage files and folders using File Explorer&nbsp\;</li><li>Adjust basic settings like Wi-Fi\, display\, and personalization&nbsp\;</li><li>Use built-in tools and apps to complete everyday tasks</li></ul><p><br></p></body></html>
LOCATION:19901 Stony Island Avenue Lynwood IL 60411
UID:e.2067.1445608
SEQUENCE:3
DTSTAMP:20260424T110551Z
URL:https://business.chicagosouthlandchamber.com/calendar/Details/cscc-windows-11-workshop-1712223?sourceTypeId=Hub
END:VEVENT
END:VCALENDAR
