BEGIN:VCALENDAR
VERSION:2.0
PRODID:-//ChamberMaster//Event Calendar 2.0//EN
METHOD:PUBLISH
X-PUBLISHED-TTL:P1H
REFRESH-INTERVAL:P1H
CALSCALE:GREGORIAN
BEGIN:VTIMEZONE
TZID:America/Chicago
BEGIN:DAYLIGHT
RRULE:FREQ=YEARLY;BYMONTH=3;BYDAY=2SU
DTSTART:20070101T000000
TZOFFSETFROM:-0600
TZOFFSETTO:-0500
TZNAME:Central Daylight Time
END:DAYLIGHT
BEGIN:STANDARD
RRULE:FREQ=YEARLY;BYMONTH=11;BYDAY=1SU
DTSTART:20070101T000000
TZOFFSETFROM:-0500
TZOFFSETTO:-0600
TZNAME:Central Standard Time
END:STANDARD
END:VTIMEZONE
BEGIN:VEVENT
DTSTART;TZID=America/Chicago:20260729T110000
DTEND;TZID=America/Chicago:20260729T121500
X-MICROSOFT-CDO-ALLDAYEVENT:FALSE
SUMMARY:CSCC Telehealth Basics Workshop
DESCRIPTION:Join us for an engaging\, hands-on Telehealth Video Appointments Workshop designed to help participants feel confident attending virtual healthcare visits.This workshop will provide a supportive learning environment where participants will learn how to:Prepare for a successful video appointmentUse telehealth platforms to connect with providersTroubleshoot common issues during virtual visitsRegister here: https://alsipmerrionette.librarycalendar.com/event/conducting-telehealth-video-appointments-10867 Reserve your spot now!
X-ALT-DESC;FMTTYPE=text/html:<!DOCTYPE html><html><head><title></title></head><body aria-disabled="false"><p data-end="243" data-start="85">Join us for an engaging\, hands-on <strong data-end="161" data-start="119" fr-original-style="" style="font-weight: 700\;">Telehealth Video Appointments Workshop</strong> designed to help participants feel confident attending virtual healthcare visits.</p><p data-end="343" data-start="245">This workshop will provide a supportive learning environment where participants will learn how to:</p><ol data-end="504" data-start="345" fr-original-style="" style="list-style-position: inside\;"><li data-end="392" data-section-id="uodlkz" data-start="345">Prepare for a successful video appointment</li><li data-end="449" data-section-id="qv5vif" data-start="394">Use telehealth platforms to connect with providers</li><li data-end="504" data-section-id="1dasl1j" data-start="451">Troubleshoot common issues during virtual visits</li></ol><p data-end="623" data-start="506">Register here: <a fr-original-style="" href="https://alsipmerrionette.librarycalendar.com/event/conducting-telehealth-video-appointments-10867" style="user-select: auto\;">https://alsipmerrionette.librarycalendar.com/event/conducting-telehealth-video-appointments-10867</a></p><p data-end="623" data-start="506">&nbsp\;Reserve your spot now!</p></body></html>
LOCATION:11960 S Pulaski Rd\, Alsip\, IL 60803 Alsip IL
UID:e.2067.1442947
SEQUENCE:3
DTSTAMP:20260424T110727Z
URL:https://business.chicagosouthlandchamber.com/calendar/Details/cscc-telehealth-basics-workshop-1698921?sourceTypeId=Hub
END:VEVENT
END:VCALENDAR
