BEGIN:VCALENDAR
VERSION:2.0
PRODID:-//ChamberMaster//Event Calendar 2.0//EN
METHOD:PUBLISH
X-PUBLISHED-TTL:P1H
REFRESH-INTERVAL:P1H
CALSCALE:GREGORIAN
BEGIN:VTIMEZONE
TZID:America/Chicago
BEGIN:DAYLIGHT
RRULE:FREQ=YEARLY;BYMONTH=3;BYDAY=2SU
DTSTART:20070101T000000
TZOFFSETFROM:-0600
TZOFFSETTO:-0500
TZNAME:Central Daylight Time
END:DAYLIGHT
BEGIN:STANDARD
RRULE:FREQ=YEARLY;BYMONTH=11;BYDAY=1SU
DTSTART:20070101T000000
TZOFFSETFROM:-0500
TZOFFSETTO:-0600
TZNAME:Central Standard Time
END:STANDARD
END:VTIMEZONE
BEGIN:VEVENT
DTSTART;TZID=America/Chicago:20260722T110000
DTEND;TZID=America/Chicago:20260722T121500
X-MICROSOFT-CDO-ALLDAYEVENT:FALSE
SUMMARY:CSCC Telehealth Basics Workshop
DESCRIPTION:Join us for an engaging\, hands-on Telehealth Basics: Setting Up Apps & Accounts Workshop designed to help participants confidently access online healthcare services.This workshop will provide a supportive learning environment where participants will learn how to:Set up telehealth accountsCreate strong and secure passwordsDownload and install healthcare appsRegister here: https://alsipmerrionette.librarycalendar.com/event/setting-telehealth-apps-and-accounts-10866Reserve your spot now!
X-ALT-DESC;FMTTYPE=text/html:<!DOCTYPE html><html><head><title></title></head><body aria-disabled="false"><p data-end="286" data-start="117">Join us for an engaging\, hands-on <strong data-end="209" data-start="151" fr-original-style="" style="font-weight: 700\;">Telehealth Basics: Setting Up Apps &amp\; Accounts Workshop</strong> designed to help participants confidently access online healthcare services.</p><p data-end="386" data-start="288">This workshop will provide a supportive learning environment where participants will learn how to:</p><ol data-end="503" data-start="388" fr-original-style="" style="list-style-position: inside\;"><li data-end="419" data-section-id="phg9kb" data-start="388">Set up telehealth accounts</li><li data-end="460" data-section-id="1o073lq" data-start="421">Create strong and secure passwords</li><li data-end="503" data-section-id="dkdx9" data-start="462">Download and install healthcare apps</li></ol><p data-end="622" data-start="505">Register here: <a fr-original-style="" href="https://alsipmerrionette.librarycalendar.com/event/setting-telehealth-apps-and-accounts-10866" style="user-select: auto\;">https://alsipmerrionette.librarycalendar.com/event/setting-telehealth-apps-and-accounts-10866</a></p><p data-end="622" data-start="505">Reserve your spot now!</p></body></html>
LOCATION:11960 S Pulaski Rd\, Alsip\, IL 60803 Alsip IL
UID:e.2067.1442944
SEQUENCE:3
DTSTAMP:20260424T110728Z
URL:https://business.chicagosouthlandchamber.com/calendar/Details/cscc-telehealth-basics-workshop-1698920?sourceTypeId=Hub
END:VEVENT
END:VCALENDAR
