BEGIN:VCALENDAR
VERSION:2.0
PRODID:-//ChamberMaster//Event Calendar 2.0//EN
METHOD:PUBLISH
X-PUBLISHED-TTL:P1H
REFRESH-INTERVAL:P1H
CALSCALE:GREGORIAN
BEGIN:VTIMEZONE
TZID:America/Chicago
BEGIN:DAYLIGHT
RRULE:FREQ=YEARLY;BYMONTH=3;BYDAY=2SU
DTSTART:20070101T000000
TZOFFSETFROM:-0600
TZOFFSETTO:-0500
TZNAME:Central Daylight Time
END:DAYLIGHT
BEGIN:STANDARD
RRULE:FREQ=YEARLY;BYMONTH=11;BYDAY=1SU
DTSTART:20070101T000000
TZOFFSETFROM:-0500
TZOFFSETTO:-0600
TZNAME:Central Standard Time
END:STANDARD
END:VTIMEZONE
BEGIN:VEVENT
DTSTART;TZID=America/Chicago:20260708T110000
DTEND;TZID=America/Chicago:20260708T121500
X-MICROSOFT-CDO-ALLDAYEVENT:FALSE
SUMMARY:CSCC Online Job Searching Workshop
DESCRIPTION:Join us for an engaging\, hands-on Online Job Searching Workshop designed to help participants build confidence and improve their job search skills.This workshop will provide a supportive learning environment where participants will learn how to:Search for jobs effectively using online platformsNavigate tools like CareerOneStop\, Indeed\, and CareerBuilderFind opportunities that match their skills and interestsRegister here: https://alsipmerrionette.librarycalendar.com/event/online-job-searching-10863 Reserve your spot now!
X-ALT-DESC;FMTTYPE=text/html:<!DOCTYPE html><html><head><title></title></head><body aria-disabled="false"><p data-end="203" data-start="52">Join us for an engaging\, hands-on <strong data-end="119" data-start="86" fr-original-style="" style="font-weight: 700\;">Online Job Searching Workshop</strong> designed to help participants build confidence and improve their job search skills.</p><p data-end="303" data-start="205">This workshop will provide a supportive learning environment where participants will learn how to:</p><ol data-end="569" data-start="305" fr-original-style="" style="list-style-position: inside\;"><li data-end="360" data-section-id="1lshohy" data-start="305">Search for jobs effectively using online platforms</li><li data-end="506" data-section-id="aso9xk" data-start="362">Navigate tools like CareerOneStop\, Indeed\, and CareerBuilder</li><li data-end="569" data-section-id="1grxrfq" data-start="508">Find opportunities that match their skills and interests</li></ol><p data-end="688" data-start="571">Register here: <a fr-original-style="" href="https://alsipmerrionette.librarycalendar.com/event/online-job-searching-10863" style="user-select: auto\;">https://alsipmerrionette.librarycalendar.com/event/online-job-searching-10863</a></p><p data-end="688" data-start="571">&nbsp\;Reserve your spot now!</p></body></html>
LOCATION:11960 S Pulaski Rd\, Alsip\, IL 60803 Alsip IL
UID:e.2067.1442933
SEQUENCE:3
DTSTAMP:20260424T110907Z
URL:https://business.chicagosouthlandchamber.com/calendar/Details/cscc-online-job-searching-workshop-1698918?sourceTypeId=Hub
END:VEVENT
END:VCALENDAR
