BEGIN:VCALENDAR
VERSION:2.0
PRODID:-//ChamberMaster//Event Calendar 2.0//EN
METHOD:PUBLISH
X-PUBLISHED-TTL:P1H
REFRESH-INTERVAL:P1H
CALSCALE:GREGORIAN
BEGIN:VTIMEZONE
TZID:America/Chicago
BEGIN:DAYLIGHT
RRULE:FREQ=YEARLY;BYMONTH=3;BYDAY=2SU
DTSTART:20070101T000000
TZOFFSETFROM:-0600
TZOFFSETTO:-0500
TZNAME:Central Daylight Time
END:DAYLIGHT
BEGIN:STANDARD
RRULE:FREQ=YEARLY;BYMONTH=11;BYDAY=1SU
DTSTART:20070101T000000
TZOFFSETFROM:-0500
TZOFFSETTO:-0600
TZNAME:Central Standard Time
END:STANDARD
END:VTIMEZONE
BEGIN:VEVENT
DTSTART;TZID=America/Chicago:20260701T110000
DTEND;TZID=America/Chicago:20260701T121500
X-MICROSOFT-CDO-ALLDAYEVENT:FALSE
SUMMARY:CSCC Managing Your Digital Footprint Workshop
DESCRIPTION:Join us for an engaging\, hands-on Managing Your Digital Footprint Workshop designed to help participants take control of their online presence and protect their personal information.This workshop will provide a supportive learning environment where participants will learn how to:Manage and understand their online identityClear browser history and cookiesAdjust privacy settings to stay safe onlineRegister here: https://alsipmerrionette.librarycalendar.com/event/managing-your-digital-footprint-10862Reserve your spot now!
X-ALT-DESC;FMTTYPE=text/html:<!DOCTYPE html><html><head><title></title></head><body aria-disabled="false"><p data-end="257" data-start="71">Join us for an engaging\, hands-on <strong data-end="149" data-start="105" fr-original-style="" style="font-weight: 700\;">Managing Your Digital Footprint Workshop</strong> designed to help participants take control of their online presence and protect their personal information.</p><p data-end="357" data-start="259">This workshop will provide a supportive learning environment where participants will learn how to:</p><ol data-end="497" data-start="359" fr-original-style="" style="list-style-position: inside\;"><li data-end="407" data-section-id="aeeimn" data-start="359">Manage and understand their online identity</li><li data-end="447" data-section-id="1xb6qdu" data-start="409">Clear browser history and cookies</li><li data-end="497" data-section-id="15v9sqk" data-start="449">Adjust privacy settings to stay safe online</li></ol><p data-end="616" data-start="499">Register here: <a fr-original-style="" href="https://alsipmerrionette.librarycalendar.com/event/managing-your-digital-footprint-10862" style="user-select: auto\;">https://alsipmerrionette.librarycalendar.com/event/managing-your-digital-footprint-10862</a></p><p data-end="616" data-start="499">Reserve your spot now!</p></body></html>
LOCATION:11960 S Pulaski Rd\, Alsip\, IL 60803 Alsip IL
UID:e.2067.1435273
SEQUENCE:3
DTSTAMP:20260424T110750Z
URL:https://business.chicagosouthlandchamber.com/calendar/Details/cscc-managing-your-digital-footprint-workshop-1698912?sourceTypeId=Hub
END:VEVENT
END:VCALENDAR
