BEGIN:VCALENDAR
VERSION:2.0
PRODID:-//ChamberMaster//Event Calendar 2.0//EN
METHOD:PUBLISH
X-PUBLISHED-TTL:P1H
REFRESH-INTERVAL:P1H
CALSCALE:GREGORIAN
BEGIN:VTIMEZONE
TZID:America/Chicago
BEGIN:DAYLIGHT
RRULE:FREQ=YEARLY;BYMONTH=3;BYDAY=2SU
DTSTART:20070101T000000
TZOFFSETFROM:-0600
TZOFFSETTO:-0500
TZNAME:Central Daylight Time
END:DAYLIGHT
BEGIN:STANDARD
RRULE:FREQ=YEARLY;BYMONTH=11;BYDAY=1SU
DTSTART:20070101T000000
TZOFFSETFROM:-0500
TZOFFSETTO:-0600
TZNAME:Central Standard Time
END:STANDARD
END:VTIMEZONE
BEGIN:VEVENT
DTSTART;TZID=America/Chicago:20260620T100000
DTEND;TZID=America/Chicago:20260620T113000
X-MICROSOFT-CDO-ALLDAYEVENT:FALSE
SUMMARY:CSCC Internet Basics Workshop
DESCRIPTION:Join us for an engaging\, hands-on Internet Basics Workshop designed to help participants build confidence using the internet safely and effectively.This workshop will provide a supportive learning environment where participants will learn how to:Browse the internet and navigate websites Use search engines to find reliable information Understand basic online safety and avoid scams Learn what cookies are and how they track website activity
X-ALT-DESC;FMTTYPE=text/html:<!DOCTYPE html><html><head><title></title></head><body aria-disabled="false"><p>Join us for an engaging\, hands-on Internet Basics Workshop designed to help participants build confidence using the internet safely and effectively.</p><p>This workshop will provide a supportive learning environment where participants will learn how to:</p><ul fr-original-style="" style="list-style-position: inside\;"><li>Browse the internet and navigate websites&nbsp\;</li><li>Use search engines to find reliable information&nbsp\;</li><li>Understand basic online safety and avoid scams&nbsp\;</li><li>Learn what cookies are and how they track website activity</li></ul></body></html>
LOCATION:19901 Stony Island Avenue Lynwood IL 60411
UID:e.2067.1445615
SEQUENCE:3
DTSTAMP:20260424T110443Z
URL:https://business.chicagosouthlandchamber.com/calendar/Details/cscc-internet-basics-workshop-1712230?sourceTypeId=Hub
END:VEVENT
END:VCALENDAR
