BEGIN:VCALENDAR
VERSION:2.0
PRODID:-//ChamberMaster//Event Calendar 2.0//EN
METHOD:PUBLISH
X-PUBLISHED-TTL:P1H
REFRESH-INTERVAL:P1H
CALSCALE:GREGORIAN
BEGIN:VTIMEZONE
TZID:America/Chicago
BEGIN:DAYLIGHT
RRULE:FREQ=YEARLY;BYMONTH=3;BYDAY=2SU
DTSTART:20070101T000000
TZOFFSETFROM:-0600
TZOFFSETTO:-0500
TZNAME:Central Daylight Time
END:DAYLIGHT
BEGIN:STANDARD
RRULE:FREQ=YEARLY;BYMONTH=11;BYDAY=1SU
DTSTART:20070101T000000
TZOFFSETFROM:-0500
TZOFFSETTO:-0600
TZNAME:Central Standard Time
END:STANDARD
END:VTIMEZONE
BEGIN:VEVENT
DTSTART;TZID=America/Chicago:20260708T120000
DTEND;TZID=America/Chicago:20260708T133000
X-MICROSOFT-CDO-ALLDAYEVENT:FALSE
SUMMARY:CSCC Foundation AI Workshop Series
DESCRIPTION:Join the Chicago Southland Chamber of Commerce for our Lunch and Learn Foundation AI Workshop Series\, a dynamic and engaging series of three workshops designed to bring our community together over lunch while expanding our knowledge and skills in the ever-changing AI world. Come learn from the best\, connect with your peers over lunch\, and leave with valuable takeaways. We hope to see you soon!Featured Speaker: Melissa Duff-Brown\, Director of Strategy\, Joseph Consulting & Business ServicesTopic/Workshop #3: TBDDate: May 13\, 2026Time: 12:00 pm - 1:30 pmMembers-No Charge (includes presentation and lunch)Non-Members-$50.00 (includes presentation and lunch)Lunch is graciously provided by the CSCC Education Foundation. Reserve your registration now\; space is limited!
X-ALT-DESC;FMTTYPE=text/html:<!DOCTYPE html><html><head><title></title></head><body aria-disabled="false"><p>Join the Chicago Southland Chamber of Commerce for our <strong fr-original-style="" style="font-weight: 700\;">Lunch and Learn Foundation AI Workshop Series</strong>\, a dynamic and engaging series of three workshops designed to bring our community together over lunch while expanding our knowledge and skills in the ever-changing AI world.&nbsp\;</p><p>Come learn from the best\, connect with your peers over lunch\, and leave with valuable takeaways. We hope to see you soon!</p><p><strong fr-original-style="" style="font-weight: 700\;">Featured Speaker:&nbsp\;</strong>Melissa Duff-Brown\, Director of Strategy\, Joseph Consulting &amp\; Business Services</p><p><strong fr-original-style="" style="font-weight: 700\;">Topic/Workshop #3: TBD</strong></p><p><strong fr-original-style="" style="font-weight: 700\;">Date:</strong> May 13\, 2026</p><p><strong fr-original-style="" style="font-weight: 700\;">Time:&nbsp\;</strong>12:00 pm - 1:30 pm</p><p>Members-<strong fr-original-style="" style="font-weight: 700\;">No Charge (includes presentation and lunch)</strong></p><p>Non-Members-<strong fr-original-style="" style="font-weight: 700\;">$50.00 (includes presentation and lunch)</strong></p><p><em>Lunch is graciously provided by the CSCC Education Foundation. Reserve your registration now\; space is limited!</em></p></body></html>
LOCATION:1916 174th Street East Hazel Crest IL 60429
UID:e.2067.1442538
SEQUENCE:3
DTSTAMP:20260424T123235Z
URL:https://business.chicagosouthlandchamber.com/calendar/Details/cscc-foundation-ai-workshop-series-1708572?sourceTypeId=Hub
END:VEVENT
END:VCALENDAR
