BEGIN:VCALENDAR
VERSION:2.0
PRODID:-//ChamberMaster//Event Calendar 2.0//EN
METHOD:PUBLISH
X-PUBLISHED-TTL:P1H
REFRESH-INTERVAL:P1H
CALSCALE:GREGORIAN
BEGIN:VTIMEZONE
TZID:America/Chicago
BEGIN:DAYLIGHT
RRULE:FREQ=YEARLY;BYMONTH=3;BYDAY=2SU
DTSTART:20070101T000000
TZOFFSETFROM:-0600
TZOFFSETTO:-0500
TZNAME:Central Daylight Time
END:DAYLIGHT
BEGIN:STANDARD
RRULE:FREQ=YEARLY;BYMONTH=11;BYDAY=1SU
DTSTART:20070101T000000
TZOFFSETFROM:-0500
TZOFFSETTO:-0600
TZNAME:Central Standard Time
END:STANDARD
END:VTIMEZONE
BEGIN:VEVENT
DTSTART;TZID=America/Chicago:20260715T110000
DTEND;TZID=America/Chicago:20260715T121500
X-MICROSOFT-CDO-ALLDAYEVENT:FALSE
SUMMARY:CSCC Email Workshop
DESCRIPTION:Join us for an engaging\, hands-on Smart Email Practices Workshop designed to help participants build confidence using email in a safe and effective way.This workshop will provide a supportive learning environment where participants will learn how to:Sign into email on a public computer safelySend emails\, attach files\, and open attachmentsRecognize spam and phishing emailsRegister here: https://alsipmerrionette.librarycalendar.com/event/using-email-safely-and-effectively-10864 Reserve your spot now!
X-ALT-DESC;FMTTYPE=text/html:<!DOCTYPE html><html><head><title></title></head><body aria-disabled="false"><p data-end="241" data-start="85">Join us for an engaging\, hands-on <strong data-end="153" data-start="119" fr-original-style="" style="font-weight: 700\;">Smart Email Practices Workshop</strong> designed to help participants build confidence using email in a safe and effective way.</p><p data-end="341" data-start="243">This workshop will provide a supportive learning environment where participants will learn how to:</p><ol data-end="486" data-start="343" fr-original-style="" style="list-style-position: inside\;"><li data-end="391" data-section-id="1fo726z" data-start="343">Sign into email on a public computer safely</li><li data-end="445" data-section-id="npv8tt" data-start="393">Send emails\, attach files\, and open attachments</li><li data-end="486" data-section-id="1jifoel" data-start="447">Recognize spam and phishing emails</li></ol><p data-end="605" data-start="488">Register here: <a fr-original-style="" href="https://alsipmerrionette.librarycalendar.com/event/using-email-safely-and-effectively-10864" style="user-select: auto\;">https://alsipmerrionette.librarycalendar.com/event/using-email-safely-and-effectively-10864</a></p><p data-end="605" data-start="488">&nbsp\;Reserve your spot now!</p></body></html>
LOCATION:11960 S Pulaski Rd\, Alsip\, IL 60803 Alsip IL
UID:e.2067.1442942
SEQUENCE:3
DTSTAMP:20260424T110504Z
URL:https://business.chicagosouthlandchamber.com/calendar/Details/cscc-email-workshop-1698919?sourceTypeId=Hub
END:VEVENT
END:VCALENDAR
