BEGIN:VCALENDAR
VERSION:2.0
PRODID:-//ChamberMaster//Event Calendar 2.0//EN
METHOD:PUBLISH
X-PUBLISHED-TTL:P1H
REFRESH-INTERVAL:P1H
CALSCALE:GREGORIAN
BEGIN:VTIMEZONE
TZID:America/Chicago
BEGIN:DAYLIGHT
RRULE:FREQ=YEARLY;BYMONTH=3;BYDAY=2SU
DTSTART:20070101T000000
TZOFFSETFROM:-0600
TZOFFSETTO:-0500
TZNAME:Central Daylight Time
END:DAYLIGHT
BEGIN:STANDARD
RRULE:FREQ=YEARLY;BYMONTH=11;BYDAY=1SU
DTSTART:20070101T000000
TZOFFSETFROM:-0500
TZOFFSETTO:-0600
TZNAME:Central Standard Time
END:STANDARD
END:VTIMEZONE
BEGIN:VEVENT
DTSTART;TZID=America/Chicago:20260407T080000
DTEND;TZID=America/Chicago:20260407T170000
X-MICROSOFT-CDO-ALLDAYEVENT:FALSE
SUMMARY:🎨✂️ Crafters Tuesday: Honoring Jackie Robinson ✂️🎨
DESCRIPTION:This Crafters Tuesday\, we celebrate the legacy of Jackie Robinson — a true pioneer who changed the game forever. 🧢⚾ Through courage\, strength\, and determination\, he broke barriers and inspired generations both on and off the field.\nJoin us as we create meaningful crafts that reflect his impact—think baseball-themed art\, inspirational quotes\, and projects that highlight unity\, perseverance\, and equality. 💙\n\nLet’s get creative while remembering a hero who proved that change begins with bravery. 🌟
X-ALT-DESC;FMTTYPE=text/html:This Crafters Tuesday\, we celebrate the legacy of Jackie Robinson — a true pioneer who changed the game forever. 🧢⚾ Through courage\, strength\, and determination\, he broke barriers and inspired generations both on and off the field.\nJoin us as we create meaningful crafts that reflect his impact—think baseball-themed art\, inspirational quotes\, and projects that highlight unity\, perseverance\, and equality. 💙\n\nLet’s get creative while remembering a hero who proved that change begins with bravery. 🌟
LOCATION:25 W. 15th Street Chicago Heights IL 60411
UID:e.2067.1437972
SEQUENCE:3
DTSTAMP:20260424T111048Z
URL:https://business.chicagosouthlandchamber.com/calendar/Details/crafters-tuesday-honoring-jackie-robinson-1701986?sourceTypeId=Hub
END:VEVENT
END:VCALENDAR
