BEGIN:VCALENDAR
VERSION:2.0
PRODID:-//ChamberMaster//Event Calendar 2.0//EN
METHOD:PUBLISH
X-PUBLISHED-TTL:P1H
REFRESH-INTERVAL:P1H
CALSCALE:GREGORIAN
BEGIN:VTIMEZONE
TZID:America/Chicago
BEGIN:DAYLIGHT
RRULE:FREQ=YEARLY;BYMONTH=3;BYDAY=2SU
DTSTART:20070101T000000
TZOFFSETFROM:-0600
TZOFFSETTO:-0500
TZNAME:Central Daylight Time
END:DAYLIGHT
BEGIN:STANDARD
RRULE:FREQ=YEARLY;BYMONTH=11;BYDAY=1SU
DTSTART:20070101T000000
TZOFFSETFROM:-0500
TZOFFSETTO:-0600
TZNAME:Central Standard Time
END:STANDARD
END:VTIMEZONE
BEGIN:VEVENT
DTSTART;TZID=America/Chicago:20260420T170000
DTEND;TZID=America/Chicago:20260420T180000
X-MICROSOFT-CDO-ALLDAYEVENT:FALSE
SUMMARY:Container Gardening
DESCRIPTION:Dreaming of a lush garden but short on space? This program is for you! Join us to learn how to grow a thriving garden—no backyard required.\n\nPerfect for beginners and experienced gardeners alike\, this class will guide you through choosing the right containers\, selecting the best plants\, and creating nutrient-rich soil mixes for healthy growth. You’ll also learn essential care tips like proper watering\, sunlight needs\, fertilizing\, and seasonal maintenance.\n\nDiscover how to successfully grow herbs\, vegetables\, and flowers in pots and transform any small space—balcony\, patio\, or even a windowsill—into a vibrant\, productive garden.\n\nGet ready to dig in and grow with confidence! 🌼✨\n\n#ContainerGardening #GrowAnywhere #UrbanGardening #GreenThumb
X-ALT-DESC;FMTTYPE=text/html:Dreaming of a lush garden but short on space? This program is for you! Join us to learn how to grow a thriving garden—no backyard required.\n\nPerfect for beginners and experienced gardeners alike\, this class will guide you through choosing the right containers\, selecting the best plants\, and creating nutrient-rich soil mixes for healthy growth. You’ll also learn essential care tips like proper watering\, sunlight needs\, fertilizing\, and seasonal maintenance.\n\nDiscover how to successfully grow herbs\, vegetables\, and flowers in pots and transform any small space—balcony\, patio\, or even a windowsill—into a vibrant\, productive garden.\n\nGet ready to dig in and grow with confidence! 🌼✨\n\n#ContainerGardening #GrowAnywhere #UrbanGardening #GreenThumb
LOCATION:25 W. 15th Street Chicago Heights IL 60411
UID:e.2067.1438092
SEQUENCE:3
DTSTAMP:20260424T110554Z
URL:https://business.chicagosouthlandchamber.com/calendar/Details/container-gardening-1702103?sourceTypeId=Hub
END:VEVENT
END:VCALENDAR
