BEGIN:VCALENDAR
VERSION:2.0
PRODID:-//ChamberMaster//Event Calendar 2.0//EN
METHOD:PUBLISH
X-PUBLISHED-TTL:P1H
REFRESH-INTERVAL:P1H
CALSCALE:GREGORIAN
BEGIN:VTIMEZONE
TZID:America/Chicago
BEGIN:DAYLIGHT
RRULE:FREQ=YEARLY;BYMONTH=3;BYDAY=2SU
DTSTART:20070101T000000
TZOFFSETFROM:-0600
TZOFFSETTO:-0500
TZNAME:Central Daylight Time
END:DAYLIGHT
BEGIN:STANDARD
RRULE:FREQ=YEARLY;BYMONTH=11;BYDAY=1SU
DTSTART:20070101T000000
TZOFFSETFROM:-0500
TZOFFSETTO:-0600
TZNAME:Central Standard Time
END:STANDARD
END:VTIMEZONE
BEGIN:VEVENT
DTSTART;TZID=America/Chicago:20260424T153000
DTEND;TZID=America/Chicago:20260424T163000
X-MICROSOFT-CDO-ALLDAYEVENT:FALSE
SUMMARY:Children's Bingo
DESCRIPTION:Join us for a fun-filled Children's Bingo event where excitement\, laughter\, and friendly competition come together! Kids will enjoy multiple rounds of bingo with colorful cards\, easy-to-follow gameplay\, and plenty of chances to win small prizes. This lively event is perfect for children ages 5-12\, offering a welcoming space to build social skills\, practice listening\, and celebrate each win big or small. Whether it's their first time playing or they're already bingo pros\, everyone will have a great time in this upbeat and engaging activity. Bring your lucky charm and get ready to shout "Bingo!" 🎉
X-ALT-DESC;FMTTYPE=text/html:<!DOCTYPE html><html><head><title></title></head><body aria-disabled="false"><p>Join us for a fun-filled Children&rsquo\;s Bingo event where excitement\, laughter\, and friendly competition come together! Kids will enjoy multiple rounds of bingo with colorful cards\, easy-to-follow gameplay\, and plenty of chances to win small prizes. This lively event is perfect for children ages 5-12\, offering a welcoming space to build social skills\, practice listening\, and celebrate each win&mdash\;big or small. Whether it&rsquo\;s their first time playing or they&rsquo\;re already bingo pros\, everyone will have a great time in this upbeat and engaging activity. Bring your lucky charm and get ready to shout &ldquo\;Bingo!&rdquo\; 🎉</p></body></html>
LOCATION:25 W. 15th Street Chicago Heights IL 60411
UID:e.2067.1438116
SEQUENCE:3
DTSTAMP:20260424T110841Z
URL:https://business.chicagosouthlandchamber.com/calendar/Details/children-s-bingo-1702128?sourceTypeId=Hub
END:VEVENT
END:VCALENDAR
