BEGIN:VCALENDAR
VERSION:2.0
PRODID:-//ChamberMaster//Event Calendar 2.0//EN
METHOD:PUBLISH
X-PUBLISHED-TTL:P1H
REFRESH-INTERVAL:P1H
CALSCALE:GREGORIAN
BEGIN:VTIMEZONE
TZID:America/Chicago
BEGIN:DAYLIGHT
RRULE:FREQ=YEARLY;BYMONTH=3;BYDAY=2SU
DTSTART:20070101T000000
TZOFFSETFROM:-0600
TZOFFSETTO:-0500
TZNAME:Central Daylight Time
END:DAYLIGHT
BEGIN:STANDARD
RRULE:FREQ=YEARLY;BYMONTH=11;BYDAY=1SU
DTSTART:20070101T000000
TZOFFSETFROM:-0500
TZOFFSETTO:-0600
TZNAME:Central Standard Time
END:STANDARD
END:VTIMEZONE
BEGIN:VEVENT
DTSTART;TZID=America/Chicago:20260613T173000
DTEND;TZID=America/Chicago:20260613T203000
X-MICROSOFT-CDO-ALLDAYEVENT:FALSE
SUMMARY:Bowl Bash
DESCRIPTION:Join us a for fun\, family-friendly event that is open to all ages and abilities. There will be lots of fun and action throughout the event. We will have Split the Pot\, raffle baskets\, games\, and more. Cost is $40/ bowler that includes 3 games of bowling\, pizza and pop\, and shoes. A spectator cost is $15 that includes pizza and pop. We are looking for sponsors for the event as well. Please reach out to Gina Foote for sponsorship information. \nSign up here: https://sertomastar.org/bowling-fundraiser/\nGet the ball rolling and sign up today!
X-ALT-DESC;FMTTYPE=text/html:Join us a for fun\, family-friendly event that is open to all ages and abilities. There will be lots of fun and action throughout the event. We will have Split the Pot\, raffle baskets\, games\, and more. Cost is $40/ bowler that includes 3 games of bowling\, pizza and pop\, and shoes. A spectator cost is $15 that includes pizza and pop. We are looking for sponsors for the event as well. Please reach out to Gina Foote for sponsorship information. \nSign up here: https://sertomastar.org/bowling-fundraiser/\nGet the ball rolling and sign up today!
LOCATION:3925 E. Lincoln Hwy Merrillville IN 46410
UID:e.2067.1440988
SEQUENCE:3
DTSTAMP:20260424T110550Z
URL:https://business.chicagosouthlandchamber.com/calendar/Details/bowl-bash-1706191?sourceTypeId=Hub
END:VEVENT
END:VCALENDAR
