BEGIN:VCALENDAR
VERSION:2.0
PRODID:-//ChamberMaster//Event Calendar 2.0//EN
METHOD:PUBLISH
X-PUBLISHED-TTL:P1H
REFRESH-INTERVAL:P1H
CALSCALE:GREGORIAN
BEGIN:VTIMEZONE
TZID:America/Chicago
BEGIN:DAYLIGHT
RRULE:FREQ=YEARLY;BYMONTH=3;BYDAY=2SU
DTSTART:20070101T000000
TZOFFSETFROM:-0600
TZOFFSETTO:-0500
TZNAME:Central Daylight Time
END:DAYLIGHT
BEGIN:STANDARD
RRULE:FREQ=YEARLY;BYMONTH=11;BYDAY=1SU
DTSTART:20070101T000000
TZOFFSETFROM:-0500
TZOFFSETTO:-0600
TZNAME:Central Standard Time
END:STANDARD
END:VTIMEZONE
BEGIN:VEVENT
DTSTART;TZID=America/Chicago:20260409T160000
DTEND;TZID=America/Chicago:20260409T170000
X-MICROSOFT-CDO-ALLDAYEVENT:FALSE
SUMMARY:Aunt Martha's Positive Youth Development Program
DESCRIPTION:This 6-week enrichment series guides youth through key life skills\, including nutrition\, independent living\, self-care\, effective communication\, money management\, and work and career skills. Esta serie de enriquecimiento de 6 semanas guía a los jóvenes a través de habilidades clave para la vida\, incluyendo nutrición\, vida independiente\, cuidado personal\, comunicación efectiva\, manejo del dinero y habilidades laborales y profesionales.
X-ALT-DESC;FMTTYPE=text/html:This 6-week enrichment series guides youth through key life skills\, including nutrition\, independent living\, self-care\, effective communication\, money management\, and work and career skills. Esta serie de enriquecimiento de 6 semanas guía a los jóvenes a través de habilidades clave para la vida\, incluyendo nutrición\, vida independiente\, cuidado personal\, comunicación efectiva\, manejo del dinero y habilidades laborales y profesionales.
LOCATION:25 W. 15th Street Chicago Heights IL 60411
UID:e.2067.1437956
SEQUENCE:3
DTSTAMP:20260424T110651Z
URL:https://business.chicagosouthlandchamber.com/calendar/Details/aunt-martha-s-positive-youth-development-program-1701970?sourceTypeId=Hub
END:VEVENT
END:VCALENDAR
